BEGIN:VCALENDAR
VERSION:2.0
PRODID:-//petemarshall.nl - ECPv6.15.13.1//NONSGML v1.0//EN
CALSCALE:GREGORIAN
METHOD:PUBLISH
X-WR-CALNAME:petemarshall.nl
X-ORIGINAL-URL:https://petemarshall.nl/nl
X-WR-CALDESC:Evenementen voor petemarshall.nl
REFRESH-INTERVAL;VALUE=DURATION:PT1H
X-Robots-Tag:noindex
X-PUBLISHED-TTL:PT1H
BEGIN:VTIMEZONE
TZID:Europe/Luxembourg
BEGIN:DAYLIGHT
TZOFFSETFROM:+0100
TZOFFSETTO:+0200
TZNAME:CEST
DTSTART:20240331T010000
END:DAYLIGHT
BEGIN:STANDARD
TZOFFSETFROM:+0200
TZOFFSETTO:+0100
TZNAME:CET
DTSTART:20241027T010000
END:STANDARD
BEGIN:DAYLIGHT
TZOFFSETFROM:+0100
TZOFFSETTO:+0200
TZNAME:CEST
DTSTART:20250330T010000
END:DAYLIGHT
BEGIN:STANDARD
TZOFFSETFROM:+0200
TZOFFSETTO:+0100
TZNAME:CET
DTSTART:20251026T010000
END:STANDARD
BEGIN:DAYLIGHT
TZOFFSETFROM:+0100
TZOFFSETTO:+0200
TZNAME:CEST
DTSTART:20260329T010000
END:DAYLIGHT
BEGIN:STANDARD
TZOFFSETFROM:+0200
TZOFFSETTO:+0100
TZNAME:CET
DTSTART:20261025T010000
END:STANDARD
END:VTIMEZONE
BEGIN:VEVENT
DTSTART;TZID=Europe/Luxembourg:20251108T143000
DTEND;TZID=Europe/Luxembourg:20251108T173000
DTSTAMP:20260422T033801
CREATED:20250903T133044Z
LAST-MODIFIED:20251015T154655Z
UID:6522-1762612200-1762623000@petemarshall.nl
SUMMARY:Fluid Forms - Acrylic & Collage Figures
DESCRIPTION:In this playful 3-hour workshop\, you’ll create bold and expressive figure paintings by layering fluid acrylic backgrounds with striking collage elements. We’ll experiment with isopropyl alcohol to form vibrant\, organic textures\, then carve out dynamic body shapes in white before adding faces and hands full of personality. The result: a one-of-a-kind artwork that radiates movement\, character\, and story. \nIn three hours\, you’ll: \nDiscover how to build dynamic fluid backgrounds with alcohol and acrylics \nExplore simple techniques to bring energy and rhythm into your compositions \nGain confidence through fun\, repeatable processes you can continue at home \nReconnect with your inner creative spark \nWhether you’re new to painting or ready to shake up your style\, this workshop is an invitation to play\, explore\, and rediscover your artistic instinct. Expect movement\, color\, and plenty of delightful surprises. \nNo experience required – just curiosity and an open mind.
URL:https://petemarshall.nl/nl/event/fluid-forms-acrylic-collage-figures-3/
CATEGORIES:Acrylic Painting
ATTACH;FMTTYPE=image/jpeg:https://petemarshall.nl/wp-content/uploads/2025/09/fluid_form1.jpg
ORGANIZER;CN="pete":MAILTO:p@petemarshall.nl
END:VEVENT
END:VCALENDAR